BEGIN:VCALENDAR
VERSION:2.0
PRODID:-//Squarespace Inc/Squarespace 6//v6//EN
BEGIN:VEVENT
UID:614fa35257facf059d120a86@squarespace.com
DTSTAMP:20210927T235219Z
DTSTART:20201217T013000Z
DTEND:20201217T020000Z
SUMMARY:Thrive Winter Showcase
END:VEVENT
END:VCALENDAR
