BEGIN:VCALENDAR
VERSION:2.0
PRODID:-//Squarespace Inc/Squarespace 6//v6//EN
BEGIN:VEVENT
UID:614fa516e618cb03491b133c@squarespace.com
DTSTAMP:20210927T234751Z
DTSTART:20210116T030000Z
DTEND:20210117T040000Z
SUMMARY:Thrive College Conference
END:VEVENT
END:VCALENDAR
