BEGIN:VCALENDAR
VERSION:2.0
PRODID:-//Squarespace Inc/Squarespace 6//v6//EN
BEGIN:VEVENT
UID:614fa5d31f1991246ea1384a@squarespace.com
DTSTAMP:20210927T235638Z
DTSTART:20201107T011500Z
DTEND:20201107T014500Z
SUMMARY:The Science of Gratitude
END:VEVENT
END:VCALENDAR
