BEGIN:VCALENDAR
VERSION:2.0
PRODID:-//Squarespace Inc/Squarespace 6//v6//EN
BEGIN:VEVENT
UID:614fb5d36bfbca0dd16a6e8a@squarespace.com
DTSTAMP:20210927T163937Z
DTSTART:20200926T023000Z
DTEND:20200926T033000Z
SUMMARY:"The Prodigal" Series
END:VEVENT
END:VCALENDAR
