BEGIN:VCALENDAR
VERSION:2.0
PRODID:-//Squarespace Inc/Squarespace 6//v6//EN
BEGIN:VEVENT
UID:614fb6893b4d06469d87dccd@squarespace.com
DTSTAMP:20210927T163734Z
DTSTART:20201010T023000Z
DTEND:20201010T033000Z
SUMMARY:"The Prodigal" Series - Part III
END:VEVENT
END:VCALENDAR
