BEGIN:VCALENDAR
VERSION:2.0
PRODID:-//Squarespace Inc/Squarespace 6//v6//EN
BEGIN:VEVENT
UID:614fb62569b7b655e76dd8f2@squarespace.com
DTSTAMP:20210927T163908Z
DTSTART:20201003T023000Z
DTEND:20201003T033000Z
SUMMARY:"The Prodigal" Series - Part II
END:VEVENT
END:VCALENDAR
