BEGIN:VCALENDAR
VERSION:2.0
PRODID:-//Squarespace Inc/Squarespace 6//v6//EN
BEGIN:VEVENT
UID:614fa5f08e6b8d0a91b42166@squarespace.com
DTSTAMP:20210927T235329Z
DTSTART:20201205T011500Z
DTEND:20201205T014500Z
SUMMARY:The First Christmas
END:VEVENT
END:VCALENDAR
