BEGIN:VCALENDAR
VERSION:2.0
PRODID:-//Squarespace Inc/Squarespace 6//v6//EN
BEGIN:VEVENT
UID:614fa5a26835c54ef25cd53b@squarespace.com
DTSTAMP:20210927T235150Z
DTSTART:20201219T011500Z
DTEND:20201219T014500Z
SUMMARY:The First Christmas Part 3
END:VEVENT
END:VCALENDAR
