BEGIN:VCALENDAR
VERSION:2.0
PRODID:-//Squarespace Inc/Squarespace 6//v6//EN
BEGIN:VEVENT
UID:614fb5174475614ab68ed313@squarespace.com
DTSTAMP:20210927T235233Z
DTSTART:20201212T011500Z
DTEND:20201212T014500Z
SUMMARY:The First Christmas Part 2
END:VEVENT
END:VCALENDAR
