BEGIN:VCALENDAR
VERSION:2.0
PRODID:-//Squarespace Inc/Squarespace 6//v6//EN
BEGIN:VEVENT
UID:614fa650dce65327c78abcfc@squarespace.com
DTSTAMP:20210927T221142Z
DTSTART:20210801T000000Z
DTEND:20210801T013000Z
SUMMARY:SURVIVOR: How We Made it Through College Apps
END:VEVENT
END:VCALENDAR
