BEGIN:VCALENDAR
VERSION:2.0
PRODID:-//Squarespace Inc/Squarespace 6//v6//EN
BEGIN:VEVENT
UID:614f9e19f73dde16b164b1f3@squarespace.com
DTSTAMP:20210927T221024Z
DTSTART:20210813T230000Z
DTEND:20210814T010000Z
SUMMARY:Summer Night Pop-Up
END:VEVENT
END:VCALENDAR
