BEGIN:VCALENDAR
VERSION:2.0
PRODID:-//Squarespace Inc/Squarespace 6//v6//EN
BEGIN:VEVENT
UID:614fa6cbe3f2952900ac280c@squarespace.com
DTSTAMP:20210927T221042Z
DTSTART:20210807T003000Z
DTEND:20210807T010000Z
SUMMARY:Summer Bootcamp Week 7: McQuestions Sprint 2
END:VEVENT
END:VCALENDAR
