BEGIN:VCALENDAR
VERSION:2.0
PRODID:-//Squarespace Inc/Squarespace 6//v6//EN
BEGIN:VEVENT
UID:614fa72e2105751669311f9c@squarespace.com
DTSTAMP:20210927T221205Z
DTSTART:20210731T003000Z
DTEND:20210731T010000Z
SUMMARY:Summer Bootcamp Week 6: McQuestions Cafe
END:VEVENT
END:VCALENDAR
