BEGIN:VCALENDAR
VERSION:2.0
PRODID:-//Squarespace Inc/Squarespace 6//v6//EN
BEGIN:VEVENT
UID:614fa776dce65327c78ad0ba@squarespace.com
DTSTAMP:20210927T221548Z
DTSTART:20210717T003000Z
DTEND:20210717T010000Z
SUMMARY:Summer Bootcamp Week 5: Science and Faith
END:VEVENT
END:VCALENDAR
