BEGIN:VCALENDAR
VERSION:2.0
PRODID:-//Squarespace Inc/Squarespace 6//v6//EN
BEGIN:VEVENT
UID:614fa8a769b7b655e76d4798@squarespace.com
DTSTAMP:20210927T233301Z
DTSTART:20210710T003000Z
DTEND:20210710T010000Z
SUMMARY:Summer Bootcamp Week 4: Testimony Writing
END:VEVENT
END:VCALENDAR
