BEGIN:VCALENDAR
VERSION:2.0
PRODID:-//Squarespace Inc/Squarespace 6//v6//EN
BEGIN:VEVENT
UID:614fa8f13b63df511641f622@squarespace.com
DTSTAMP:20210927T233328Z
DTSTART:20210703T003000Z
DTEND:20210703T010000Z
SUMMARY:Summer Bootcamp Week 3: Art of Conversation
END:VEVENT
END:VCALENDAR
