BEGIN:VCALENDAR
VERSION:2.0
PRODID:-//Squarespace Inc/Squarespace 6//v6//EN
BEGIN:VEVENT
UID:614fa9376bfbca0dd169edd2@squarespace.com
DTSTAMP:20210927T233347Z
DTSTART:20210626T003000Z
DTEND:20210626T010000Z
SUMMARY:Summer Bootcamp Week 2: Moral Relativism
END:VEVENT
END:VCALENDAR
