BEGIN:VCALENDAR
VERSION:2.0
PRODID:-//Squarespace Inc/Squarespace 6//v6//EN
BEGIN:VEVENT
UID:614fa980809f856d5a8370ce@squarespace.com
DTSTAMP:20210927T233408Z
DTSTART:20210619T003000Z
DTEND:20210619T010000Z
SUMMARY:Summer Bootcamp Week 1: GOSPEL Acrostic
END:VEVENT
END:VCALENDAR
