BEGIN:VCALENDAR
VERSION:2.0
PRODID:-//Squarespace Inc/Squarespace 6//v6//EN
BEGIN:VEVENT
UID:614fa9c4dce65327c78ae960@squarespace.com
DTSTAMP:20210927T233423Z
DTSTART:20210612T003000Z
DTEND:20210612T010000Z
SUMMARY:Summer Bootcamp Kickoff
END:VEVENT
END:VCALENDAR
