BEGIN:VCALENDAR
VERSION:2.0
PRODID:-//Squarespace Inc/Squarespace 6//v6//EN
BEGIN:VEVENT
UID:614faa1163b7052158c5593f@squarespace.com
DTSTAMP:20210928T000106Z
DTSTART:20200520T000000Z
DTEND:20200520T020000Z
SUMMARY:Study Hall: AP Econ\, English Lang\, French\, & More!
END:VEVENT
END:VCALENDAR
