BEGIN:VCALENDAR
VERSION:2.0
PRODID:-//Squarespace Inc/Squarespace 6//v6//EN
BEGIN:VEVENT
UID:614faa7c786cf067413cb515@squarespace.com
DTSTAMP:20210927T164839Z
DTSTART:20200512T233000Z
DTEND:20200513T003000Z
SUMMARY:Study Hall: AP Chem\, CS\, & Lit
END:VEVENT
END:VCALENDAR
