BEGIN:VCALENDAR
VERSION:2.0
PRODID:-//Squarespace Inc/Squarespace 6//v6//EN
BEGIN:VEVENT
UID:614faac369b7b655e76d5975@squarespace.com
DTSTAMP:20210927T164859Z
DTSTART:20200511T233000Z
DTEND:20200512T003000Z
SUMMARY:Study Hall: AP Calc AB & BC
END:VEVENT
END:VCALENDAR
