BEGIN:VCALENDAR
VERSION:2.0
PRODID:-//Squarespace Inc/Squarespace 6//v6//EN
BEGIN:VEVENT
UID:614fab24a101dd201879fd07@squarespace.com
DTSTAMP:20210928T000121Z
DTSTART:20200517T000000Z
DTEND:20200517T020000Z
SUMMARY:Study Hall: AP Bio\, ES
END:VEVENT
END:VCALENDAR
