BEGIN:VCALENDAR
VERSION:2.0
PRODID:-//Squarespace Inc/Squarespace 6//v6//EN
BEGIN:VEVENT
UID:614fb575e52f5c044840e879@squarespace.com
DTSTAMP:20210927T163155Z
DTSTART:20201121T033000Z
DTEND:20201121T043000Z
SUMMARY:Streamsgiving
END:VEVENT
END:VCALENDAR
