BEGIN:VCALENDAR
VERSION:2.0
PRODID:-//Squarespace Inc/Squarespace 6//v6//EN
BEGIN:VEVENT
UID:614fab6cd448400716cd1598@squarespace.com
DTSTAMP:20210927T235416Z
DTSTART:20201121T033000Z
DTEND:20201121T043000Z
SUMMARY:Streamsgiving Connect
END:VEVENT
END:VCALENDAR
