BEGIN:VCALENDAR
VERSION:2.0
PRODID:-//Squarespace Inc/Squarespace 6//v6//EN
BEGIN:VEVENT
UID:629046ce3ecb5b77b6e82edd@squarespace.com
DTSTAMP:20220603T033528Z
DTSTART:20220611T010000Z
DTEND:20220611T040000Z
SUMMARY:Special Talk with Jonathan Morrow
END:VEVENT
END:VCALENDAR
