BEGIN:VCALENDAR
VERSION:2.0
PRODID:-//Squarespace Inc/Squarespace 6//v6//EN
BEGIN:VEVENT
UID:614fb512210575166931aa76@squarespace.com
DTSTAMP:20210927T164404Z
DTSTART:20200711T023000Z
DTEND:20200711T033000Z
SUMMARY:Special Stream Episode ft. Byron Woo
END:VEVENT
END:VCALENDAR
