BEGIN:VCALENDAR
VERSION:2.0
PRODID:-//Squarespace Inc/Squarespace 6//v6//EN
BEGIN:VEVENT
UID:64442eb2c15a046d8e701312@squarespace.com
DTSTAMP:20230422T190614Z
DTSTART:20230423T000000Z
DTEND:20230423T050000Z
SUMMARY:AYM Monthly - SoCal
END:VEVENT
END:VCALENDAR
