BEGIN:VCALENDAR
VERSION:2.0
PRODID:-//Squarespace Inc/Squarespace 6//v6//EN
BEGIN:VEVENT
UID:614fb4982a80e646d35d17b3@squarespace.com
DTSTAMP:20210927T164253Z
DTSTART:20200808T023000Z
DTEND:20200808T033000Z
SUMMARY:"SHIPS" Series - Part IV
END:VEVENT
END:VCALENDAR
