BEGIN:VCALENDAR
VERSION:2.0
PRODID:-//Squarespace Inc/Squarespace 6//v6//EN
BEGIN:VEVENT
UID:614fb4286d55053f4dcd365e@squarespace.com
DTSTAMP:20210927T164310Z
DTSTART:20200801T023000Z
DTEND:20200801T033000Z
SUMMARY:"SHIPS" Series - Part III
END:VEVENT
END:VCALENDAR
