BEGIN:VCALENDAR
VERSION:2.0
PRODID:-//Squarespace Inc/Squarespace 6//v6//EN
BEGIN:VEVENT
UID:614fb3a1d448400716cd7363@squarespace.com
DTSTAMP:20210927T164327Z
DTSTART:20200725T023000Z
DTEND:20200725T033000Z
SUMMARY:"SHIPS" Series - Part II
END:VEVENT
END:VCALENDAR
