BEGIN:VCALENDAR
VERSION:2.0
PRODID:-//Squarespace Inc/Squarespace 6//v6//EN
BEGIN:VEVENT
UID:614fac17dc4e9d6390906e96@squarespace.com
DTSTAMP:20210927T235547Z
DTSTART:20201212T023000Z
DTEND:20201212T030000Z
SUMMARY:Searching for Christmas Part 2
END:VEVENT
END:VCALENDAR
