BEGIN:VCALENDAR
VERSION:2.0
PRODID:-//Squarespace Inc/Squarespace 6//v6//EN
BEGIN:VEVENT
UID:614fac7163b7052158c57d52@squarespace.com
DTSTAMP:20210927T235537Z
DTSTART:20201205T023000Z
DTEND:20201205T030000Z
SUMMARY:Searching for Christmas Part 1
END:VEVENT
END:VCALENDAR
