BEGIN:VCALENDAR
VERSION:2.0
PRODID:-//Squarespace Inc/Squarespace 6//v6//EN
BEGIN:VEVENT
UID:614fb3120e64f47eb7ee2d6b@squarespace.com
DTSTAMP:20210927T163707Z
DTSTART:20201017T023000Z
DTEND:20201017T033000Z
SUMMARY:Science and Faith
END:VEVENT
END:VCALENDAR
