BEGIN:VCALENDAR
VERSION:2.0
PRODID:-//Squarespace Inc/Squarespace 6//v6//EN
BEGIN:VEVENT
UID:62aa525f9d81956636755b13@squarespace.com
DTSTAMP:20220615T215026Z
DTSTART:20220618T013000Z
DTEND:20220618T040000Z
SUMMARY:San Jose Good News Event
END:VEVENT
END:VCALENDAR
