BEGIN:VCALENDAR
VERSION:2.0
PRODID:-//Squarespace Inc/Squarespace 6//v6//EN
BEGIN:VEVENT
UID:614fad5df235ee317a16483a@squarespace.com
DTSTAMP:20210928T000047Z
DTSTART:20200523T000000Z
DTEND:20200523T003000Z
SUMMARY:"RE:Consider" #5
END:VEVENT
END:VCALENDAR
