BEGIN:VCALENDAR
VERSION:2.0
PRODID:-//Squarespace Inc/Squarespace 6//v6//EN
BEGIN:VEVENT
UID:614fa51db7f6100ba9af3449@squarespace.com
DTSTAMP:20210928T000139Z
DTSTART:20200516T000000Z
DTEND:20200516T003000Z
SUMMARY:"RE:Consider" #4
END:VEVENT
END:VCALENDAR
