BEGIN:VCALENDAR
VERSION:2.0
PRODID:-//Squarespace Inc/Squarespace 6//v6//EN
BEGIN:VEVENT
UID:614fa89b3b4d06469d873c6c@squarespace.com
DTSTAMP:20210927T164133Z
DTSTART:20200822T023000Z
DTEND:20200822T033000Z
SUMMARY:"RE" Series
END:VEVENT
END:VCALENDAR
