BEGIN:VCALENDAR
VERSION:2.0
PRODID:-//Squarespace Inc/Squarespace 6//v6//EN
BEGIN:VEVENT
UID:614fb1574475614ab68eb623@squarespace.com
DTSTAMP:20210927T164027Z
DTSTART:20200912T023000Z
DTEND:20200912T033000Z
SUMMARY:"RE" Series - Part IV
END:VEVENT
END:VCALENDAR
