BEGIN:VCALENDAR
VERSION:2.0
PRODID:-//Squarespace Inc/Squarespace 6//v6//EN
BEGIN:VEVENT
UID:614faf39584bbf02bcc20e96@squarespace.com
DTSTAMP:20210927T164044Z
DTSTART:20200905T023000Z
DTEND:20200905T033000Z
SUMMARY:"RE" Series - Part III
END:VEVENT
END:VCALENDAR
