BEGIN:VCALENDAR
VERSION:2.0
PRODID:-//Squarespace Inc/Squarespace 6//v6//EN
BEGIN:VEVENT
UID:614faadde5fdea5d0a63a855@squarespace.com
DTSTAMP:20210927T164103Z
DTSTART:20200829T023000Z
DTEND:20200829T033000Z
SUMMARY:"RE" Series - Part II
END:VEVENT
END:VCALENDAR
