BEGIN:VCALENDAR
VERSION:2.0
PRODID:-//Squarespace Inc/Squarespace 6//v6//EN
BEGIN:VEVENT
UID:614fadacf73dde16b16586b9@squarespace.com
DTSTAMP:20210927T233554Z
DTSTART:20210522T003000Z
DTEND:20210522T010000Z
SUMMARY:Philippians 4
END:VEVENT
END:VCALENDAR
