BEGIN:VCALENDAR
VERSION:2.0
PRODID:-//Squarespace Inc/Squarespace 6//v6//EN
BEGIN:VEVENT
UID:614fb0262389bb2832e6a6b6@squarespace.com
DTSTAMP:20210927T233653Z
DTSTART:20210515T003000Z
DTEND:20210515T010000Z
SUMMARY:Philippians 3
END:VEVENT
END:VCALENDAR
