BEGIN:VCALENDAR
VERSION:2.0
PRODID:-//Squarespace Inc/Squarespace 6//v6//EN
BEGIN:VEVENT
UID:614fb1452a80e646d35cfe44@squarespace.com
DTSTAMP:20210927T234115Z
DTSTART:20210320T003000Z
DTEND:20210320T010000Z
SUMMARY:People of the Passion Story: The Crowd
END:VEVENT
END:VCALENDAR
