BEGIN:VCALENDAR
VERSION:2.0
PRODID:-//Squarespace Inc/Squarespace 6//v6//EN
BEGIN:VEVENT
UID:614fb181b021c549abe06771@squarespace.com
DTSTAMP:20210927T234131Z
DTSTART:20210313T013000Z
DTEND:20210313T020000Z
SUMMARY:People of the Passion Story: Peter
END:VEVENT
END:VCALENDAR
