BEGIN:VCALENDAR
VERSION:2.0
PRODID:-//Squarespace Inc/Squarespace 6//v6//EN
BEGIN:VEVENT
UID:614fb213dc4e9d639090a9af@squarespace.com
DTSTAMP:20210927T234039Z
DTSTART:20210327T003000Z
DTEND:20210327T010000Z
SUMMARY:People of the Passion Experience: Two Criminals
END:VEVENT
END:VCALENDAR
