BEGIN:VCALENDAR
VERSION:2.0
PRODID:-//Squarespace Inc/Squarespace 6//v6//EN
BEGIN:VEVENT
UID:6337b743e1656e4c250c669d@squarespace.com
DTSTAMP:20221113T224823Z
DTSTART:20221029T020000Z
DTEND:20221029T043000Z
SUMMARY:Bay Area October AYM Monthly
END:VEVENT
END:VCALENDAR
