BEGIN:VCALENDAR
VERSION:2.0
PRODID:-//Squarespace Inc/Squarespace 6//v6//EN
BEGIN:VEVENT
UID:614fb34a57facf059d12a482@squarespace.com
DTSTAMP:20210927T234955Z
DTSTART:20210101T040000Z
DTEND:20210101T050000Z
SUMMARY:New Year's Eve Party
END:VEVENT
END:VCALENDAR
