BEGIN:VCALENDAR
VERSION:2.0
PRODID:-//Squarespace Inc/Squarespace 6//v6//EN
BEGIN:VEVENT
UID:63cc5d95024fc4640bc9a23e@squarespace.com
DTSTAMP:20230706T025610Z
DTSTART:20230710T160000Z
DTEND:20230716T170000Z
SUMMARY:Lead THE Cause 2023
GEO:39.711007;-105.095116
LOCATION:8787 West Alameda Avenue\, Lakewood\, CO\, 80226\, United States
END:VEVENT
END:VCALENDAR
