BEGIN:VCALENDAR
VERSION:2.0
PRODID:-//Squarespace Inc/Squarespace 6//v6//EN
BEGIN:VEVENT
UID:614fa0700e64f47eb7ed736d@squarespace.com
DTSTAMP:20210927T234324Z
DTSTART:20210220T013000Z
DTEND:20210220T020000Z
SUMMARY:Jesus Feeds the 5000
END:VEVENT
END:VCALENDAR
